BEGIN:VCALENDAR
VERSION:2.0
PRODID:-//Tall Timbers - ECPv5.16.3.1//NONSGML v1.0//EN
CALSCALE:GREGORIAN
METHOD:PUBLISH
X-WR-CALNAME:Tall Timbers
X-ORIGINAL-URL:https://talltimbers.org
X-WR-CALDESC:Events for Tall Timbers
REFRESH-INTERVAL;VALUE=DURATION:PT1H
X-Robots-Tag:noindex
X-PUBLISHED-TTL:PT1H
BEGIN:VTIMEZONE
TZID:America/New_York
BEGIN:DAYLIGHT
TZOFFSETFROM:-0500
TZOFFSETTO:-0400
TZNAME:EDT
DTSTART:20220313T070000
END:DAYLIGHT
BEGIN:STANDARD
TZOFFSETFROM:-0400
TZOFFSETTO:-0500
TZNAME:EST
DTSTART:20221106T060000
END:STANDARD
END:VTIMEZONE
BEGIN:VEVENT
DTSTART;TZID=America/New_York:20221012T173000
DTEND;TZID=America/New_York:20221012T213000
DTSTAMP:20260425T213313
CREATED:20220810T141736Z
LAST-MODIFIED:20220909T133111Z
UID:14142-1665595800-1665610200@talltimbers.org
SUMMARY:Greater Houston Chapter Quail Coalition Banquet
DESCRIPTION:FOR IMMEDIATE RELEASE  \nSeptember 9\, 2022  \nMedia Contact: Cristi McKee\, Communications Coordinator  \nPhone: 850-893-4153 ext. 242  \nEmail: cmckee@talltimbers.org  \nHOUSTON\, TX – Greater Houston Chapter of The Quail Coalition banquet to be held this fall \nOn October 12\, 2022\, the Greater Houston Chapter of the Quail Coalition will hold its annual 2022 banquet at the Houston Country Club\, 1 Potomac Dr\, Houston\, TX 77057\, after a five-year hiatus. The banquet will take place from 5:30 p.m.-9:30 p.m. \nThe Quail Coalition\, which began in Dallas\, Texas\, is an independent 501(c) 3 non-profit organization that has been a huge fundraising mechanism for quail conservation projects and beneficiaries in the southern region of the United States. Every dollar raised at local banquets and events remain locally invested in the organization’s objectives to restore and sustain huntable wild quail populations\, while also engaging interested youth and promoting the area’s rich quail hunting heritage. The coalition has chapters throughout the state of Texas\, and over the last 15 years\, has raised more than $15 million for their beneficiaries. \nAccording to Brad Kubecka\, PhD\, Program Director and Western Game Bird Scientist at Tall Timbers\, the missions behind the Quail Coalition and Tall Timbers go hand in hand. “Both share the goal of restoring wild\, huntable quail populations. But\, most folks in the Greater Houston area may have no idea about Tall Timbers’ new Western Pineywoods Quail Program and the efforts going on in this area\,” Kubecka said. \nThe connection between Tall Timbers and the Quail Coalition formed several years ago when Kubecka began applying for funding. Sure enough\, “They saw the importance of our new program\,” according to Kubecka\, and that very first year\, one Quail Coalition chapter\, the Park Cities Chapter\, gave funding to Tall Timbers. \nAt this time\, there are 10 local chapters around the state of Texas with more than 3\,000 active members\, all of which provide benefits to the coalition’s partners. Past beneficiaries of this coalition include Tall Timbers\, The Rolling Plains Quail Research Ranch\, Caesar Kleberg Wildlife Research Institute\, The Quail-Tech Alliance\, the Wildlife Toxicology Lab-Texas Tech\, Sul Ross Borderlands Research Institute and The Wildlife Habitat Federation. \nIn support of the Greater Houston Chapter banquet\, Tall Timbers has donated a wild quail hunt for four. This auction item will be a special opportunity for hunters to see the research at Tall Timbers and sister property Livingston Place\, home of the prestigious Continental Field Trial since 1937. \nKubecka says that this banquet will “undoubtedly help raise awareness and funds for promoting our shared goal of bringing back huntable populations of quail in the Pineywoods through focused research and land management.” \nYou can find more information online\, here. 
URL:https://talltimbers.org/event/greater-houston-quail-coalition-banquet/
LOCATION:SC
ATTACH;FMTTYPE=image/jpeg:https://talltimbers.org/wp-content/uploads/2022/08/DSC_0422-scaled.jpg
END:VEVENT
END:VCALENDAR