BEGIN:VCALENDAR
VERSION:2.0
PRODID:-//Tall Timbers - ECPv5.16.3.1//NONSGML v1.0//EN
CALSCALE:GREGORIAN
METHOD:PUBLISH
X-WR-CALNAME:Tall Timbers
X-ORIGINAL-URL:https://talltimbers.org
X-WR-CALDESC:Events for Tall Timbers
REFRESH-INTERVAL;VALUE=DURATION:PT1H
X-Robots-Tag:noindex
X-PUBLISHED-TTL:PT1H
BEGIN:VTIMEZONE
TZID:America/New_York
BEGIN:DAYLIGHT
TZOFFSETFROM:-0500
TZOFFSETTO:-0400
TZNAME:EDT
DTSTART:20180311T070000
END:DAYLIGHT
BEGIN:STANDARD
TZOFFSETFROM:-0400
TZOFFSETTO:-0500
TZNAME:EST
DTSTART:20181104T060000
END:STANDARD
BEGIN:DAYLIGHT
TZOFFSETFROM:-0500
TZOFFSETTO:-0400
TZNAME:EDT
DTSTART:20190310T070000
END:DAYLIGHT
BEGIN:STANDARD
TZOFFSETFROM:-0400
TZOFFSETTO:-0500
TZNAME:EST
DTSTART:20191103T060000
END:STANDARD
END:VTIMEZONE
BEGIN:VEVENT
DTSTART;TZID=America/New_York:20190203T140000
DTEND;TZID=America/New_York:20190203T160000
DTSTAMP:20260421T183906
CREATED:20190129T162148Z
LAST-MODIFIED:20190129T162215Z
UID:4907-1549202400-1549209600@talltimbers.org
SUMMARY:Beadel House Tour 2/3/19
DESCRIPTION:Beadel House Tours are held once a month on the first Sunday. Tours begin at 2:15 on the Beadel House front porch\, and usually last for 2 hours. If weather permits\, the tour includes the Bird Window at Gannet Pond and the Jones Family Tenant Farm. For additional information\, please call Juanita Whiddon at 850-566-3390.
URL:https://talltimbers.org/event/beadel-house-tour-2-3-19/
LOCATION:Tall Timbers\, 13093 Henry Beadel Drive\, Tallahassee\, FL\, 32312\, United States
ATTACH;FMTTYPE=image/jpeg:https://talltimbers.org/wp-content/uploads/2018/12/Beadel-House_roses.jpg
END:VEVENT
BEGIN:VEVENT
DTSTART;VALUE=DATE:20181101
DTEND;VALUE=DATE:20181103
DTSTAMP:20260421T183906
CREATED:20181003T162830Z
LAST-MODIFIED:20181003T163600Z
UID:2972-1541030400-1541203199@talltimbers.org
SUMMARY:Game Bird Seminar / Fall Field Day  at Tall Timbers
DESCRIPTION:Join us for the 2018 Game Bird Seminar and Fall Field Day at Tall Timbers\,Thursday\, Nov. 1 and Friday\, Nov. 2. \nFor more information\, download the registration brochure or register online here \nAfter registration and breakfast\, the event begins under the tent with the Hatch Report by Dr. Theron M. Terhune and Clay Sisson of the Tall Timbers’ Game Bird Program. Afterward\, attendees will hear about Long-term Sustainability of the Red Hills and Bobwhite Population Recovery and the following topics: \n\nLongleaf Legacy Landscape: Tall Timbers’ Strategy for Putting Fire on the Back FortyPresented By: Dr. Bill Palmer\nManaging Native Ground and Wiregrass Communities for BobwhitePresented By: Robbie Green\, Land Manager\nContribution of the Red Hills & Albany Areas to Bobwhite Population RecoveryPresented By: Clay Sisson\nTranslocation Success Stories and the Future of TranslocationPresented By: Dr. Theron M. Terhune\n\nAfter a panel discussion and lunch\, there will be a field tour of Tall Timbers so that attendees can see research on the ground and the restoration that has been occurring at Tall Timbers over the past ten years.
URL:https://talltimbers.org/event/game-bird-seminar-fall-field-day-at-tall-timbers/
LOCATION:Tall Timbers\, 13093 Henry Beadel Drive\, Tallahassee\, FL\, 32312\, United States
ATTACH;FMTTYPE=image/jpeg:https://talltimbers.org/wp-content/uploads/2018/10/field-day.jpg
END:VEVENT
END:VCALENDAR