BEGIN:VCALENDAR
VERSION:2.0
PRODID:-//Tall Timbers - ECPv5.16.3.1//NONSGML v1.0//EN
CALSCALE:GREGORIAN
METHOD:PUBLISH
X-WR-CALNAME:Tall Timbers
X-ORIGINAL-URL:https://talltimbers.org
X-WR-CALDESC:Events for Tall Timbers
REFRESH-INTERVAL;VALUE=DURATION:PT1H
X-Robots-Tag:noindex
X-PUBLISHED-TTL:PT1H
BEGIN:VTIMEZONE
TZID:America/New_York
BEGIN:DAYLIGHT
TZOFFSETFROM:-0500
TZOFFSETTO:-0400
TZNAME:EDT
DTSTART:20230312T070000
END:DAYLIGHT
BEGIN:STANDARD
TZOFFSETFROM:-0400
TZOFFSETTO:-0500
TZNAME:EST
DTSTART:20231105T060000
END:STANDARD
END:VTIMEZONE
BEGIN:VEVENT
DTSTART;TZID=America/New_York:20230125T113000
DTEND;TZID=America/New_York:20230125T130000
DTSTAMP:20260424T063601
CREATED:20230113T142411Z
LAST-MODIFIED:20230113T142411Z
UID:17620-1674646200-1674651600@talltimbers.org
SUMMARY:Tall Timbers and USGS Remote Sensing of Burned Area Symposium
DESCRIPTION:You’re invited to the Remote Sensing of Burned Area Symposium hosted by Tall Timbers and the U.S. Geological Survey (USGS) on January 25 at the E.V. Komarek Science Education Center.  \nRemote Sensing of Burned Area\nTall Timbers and USGS Symposium\nIn person (RSVP\, lunch provided) and remote \n11:30-11:40 Introduction and overview of the SE FireMap online fire inventory product. Joe Noble\, Tall Timbers Research Station\, Tallahassee\, FL 11:40-12:00 Mapping burned areas from Landsat and Sentinel-2 imagery. Todd Hawbaker\, USGS Environmental Change Science Center\, Denver\, CO 12:00-12:20 Contemporary (1984-2020) fire history metrics for the conterminous United States. \nMelanie Vanderhoof\, USGS Environmental Change Science Center\, Denver\, CO\n12:20-12:40 Determination of burn severity models ranging from regional to national scales for the conterminous United States. Josh Picotte\, USGS Earth Resources Observation and Science (EROS) Center\, Sioux Falls\, SD 12:40-1:00 Patterns of burning across the landscape using SE FireMap. Holly Nowell\, Tall Timbers Research Station\, Tallahassee\, FL \nBios and Abstracts:\nTodd J. Hawbaker\, PhD\, joined the U.S. Geological Survey as a research ecologist in 2008 and currently works at the Geosciences and Environmental Change Science Center in Denver\, CO. His research with the USGS combines remote \nWhen:\nJanuary 25\, 2023\n11:30 AM-1:00 PM \nWhere:\nTall Timbers Research Station E.V. Komarek Science Education Center\, 13093 Henry Beadel Drive Tallahassee\, FL 32312. \nContact for Zoom link\, passcode\, other info\, and RSVP:\nJoe Noble\, jnoble@talltimbers.org oe Kevin Robertson krobertson@talltimbers.org. \nPresentation abstract: \nMonitoring spatial and temporal patterns of wild and prescribed fire ism critical for understanding fire patterns across both public and private lands. In the Southeast\, fire is especially important to healthy native landscapes\, to conserve listed and at-risk species\, manage for wildfire risk\, and minimize the need to conserve species through regulation. Here we present new efforts to improve the accuracy and completeness of burned area mapping over existing datasets by extending the Landsat Burned Area Algorithm to the Harmonized Landsat and Sentinel-2 dataset. The results of this effort will increase processing efficiencies and data accuracy. Most importantly\, the new burned area products will inform Southeast FireMap and ultimately promote better decision-making to prioritize funding for staff\, projects\, training\,\nequipment\, and allow fire partners to work smarter. \nMelanie Vanderhoof\, PhD\, is a Research Geographer for the U.S. Geological Survey\,\nGeosciences and Environmental Change Science Center in Denver\, CO. She uses remotely\nsensed data to explore how ecosystems respond to mechanisms of change\, such as climate\nextremes and wildfire. \nPresentation abstract: Remotely sensed burned area (BA) products are critical to support fire\nmodelling\, fire policy\, and land management. However\, BA products often require further\nprocessing before use\, even when delivered at an annual time-step. Fire management across the\nU.S. will benefit from comprehensive\, spatially explicit fire occurrence data\, delivered in a format\nto facilitate their direct use by diverse stakeholders. We produced a suite of contemporary fire\nhistory metrics from the Landsat BA products from 1984–2020 across the conterminous U.S. Fire\nhistory metrics\, alone\, or combined with historical or target fire regime data\, enables Landsat BA\ndata to help inform management of fire-dependent species and ecosystems\, fire behavior and\nemissions modeling\, fire risk analysis\, and prescribed fire planning\, all elements that are sensitive\nto fire history. \n  \nJosh Picotte has 15+ years of using field and remote-sensing based research for fire science\napplications. His infatuation with fire (and fire science) began while working at Tall Timbers\nResearch Station. He is currently working at USGS EROS on the MTBS\, LANDFIRE\, and SE\nFireMap projects.\nPresentation abstract: We developed regression models that describe the relationship between\nthe Composite Burn Index (CBI) field-derived and remotely sensed assessments (i.e.\, derivations\nof the Landsat derived Normalized Burn Ratio [NBR] index) of burn severity at different\necologically relevant scales for the conterminous United States (CONUS). Overall\, we found a\nreasonable goodness of fit (R2) of 0.55 for the differenced NBR (dNBR) and a poor fit (R2 = 0.33) for NBR at the CONUS scale\, and much better fits (R2 ≥ 0.75) for some smaller scale vegetation classifications. We will discuss how our simple decision tree framework allows a user to decide which scale and model may meet their needs to transform remotely sensed to on-the-ground burn severity metrics. \nHolly Nowell\, PhD\, joined Tall Timbers in August of 2022 after completing a post-doc\nat FSU where her studies included analyzing biases and uncertainties in the satellite\ndetection of fires in the Southeast United States\, as well as modeling their emissions.\nHer current work at Tall Timbers will focus on various aspects of SE FireMap including\nassessing regional patterns and impacts of burning on ecosystem services\, and\npredicting and communicating the uncertainties in the burned area product.\nPresentation abstract: This talk will show some preliminary research and discuss upcoming\nresearch on how to use SE FireMap to conduct landscape-level analysis of burning trends across\nthe Southeast US region. Current areas of focus in the preliminary work include temporal trends\nin burning on public vs. private lands in non-agricultural settings at a county level.
URL:https://talltimbers.org/event/tall-timbers-and-usgs-remote-sensing-of-burned-area-symposium/
LOCATION:SC
END:VEVENT
BEGIN:VEVENT
DTSTART;TZID=America/New_York:20230125T180000
DTEND;TZID=America/New_York:20230125T203000
DTSTAMP:20260424T063601
CREATED:20221216T171527Z
LAST-MODIFIED:20230124T204802Z
UID:17528-1674669600-1674678600@talltimbers.org
SUMMARY:Covey Film Fest Screenings at Tall Timbers
DESCRIPTION:Please join us at Tall Timbers on January 25\, 2023\, for an evening of conservation films. We will be screening “Introducing the Indigo\,” “Okefenokee Destiny\,” “Oshkigin Spirit of Fire\,”  and “Okefenokee Swampin – On the Fly.” \nThe evening will begin with an outdoor social at 6 p.m.\, including wine and cheese. Films will follow at 6:45 p.m. and conclude around 8:30. \nAdmission is a $10 donation at the door\, or on the Covey Film Fest website. \nThe great local team of Laura Albritton and Zickie Allgrove will introduce and discuss their new short film “Introducing Indigo.”  \nRena Ann Peck\, Executive Director for the Georgia River Network will Join us to introduce two short films about the Okefenokee Swamp and efforts to protect the swamp and other natural areas from a proposed sand mine.  \nFilms being screened at the event: \n\n“Introducing the Indigo” is a short film aimed at young audiences that highlights the rare\, threatened Eastern indigo snake. The documentary discusses the longest snake native to North America and its declining numbers. The film was produced by Magic Kumquat Productions\, out of Thomasville\, Georgia.\nA segment of the PBS aired EcoSense for Living program\, “Okefenokee Destiny” focuses on swamp ecology and explores the future of Okefenokee at a time when a proposed mining operation on its border threatens the largest intact Blackwater wetland in North America.\nThe short film  “Okefenokee Swampin – On the Fly” will open for “Okefenokee Destiny” and give insight into the sportsmen’s perspective on conservation of the swamp. The film was created by the local team of Christopher Watt and Drew Balfour. \nFor thousands of years in the Great Lakes Region\, Native Americans used fire intentionally to manage the ecosystems they lived in. Now\, there is a short film\, “Oshkigin Spirit of Fire\,” highlighting this deep\, reciprocal relationship with the land and the traditional use of fire in the Ojibwe culture. The filming took place\, with permission\, on the reservations of the Fond du Lac Band of Lake Superior Chippewa in Minnesota and the Red Cliff Band of Lake Superior Chippewa in Wisconsin.\n\n \n 
URL:https://talltimbers.org/event/covey-film-fest-screenings-at-tall-timbers/
LOCATION:Tall Timbers\, 13093 Henry Beadel Rd\, Tallahassee\, FL\, 32312\, United States
END:VEVENT
END:VCALENDAR