BEGIN:VCALENDAR
VERSION:2.0
PRODID:-//Tall Timbers - ECPv5.16.3.1//NONSGML v1.0//EN
CALSCALE:GREGORIAN
METHOD:PUBLISH
X-WR-CALNAME:Tall Timbers
X-ORIGINAL-URL:https://talltimbers.org
X-WR-CALDESC:Events for Tall Timbers
REFRESH-INTERVAL;VALUE=DURATION:PT1H
X-Robots-Tag:noindex
X-PUBLISHED-TTL:PT1H
BEGIN:VTIMEZONE
TZID:America/New_York
BEGIN:DAYLIGHT
TZOFFSETFROM:-0500
TZOFFSETTO:-0400
TZNAME:EDT
DTSTART:20220313T070000
END:DAYLIGHT
BEGIN:STANDARD
TZOFFSETFROM:-0400
TZOFFSETTO:-0500
TZNAME:EST
DTSTART:20221106T060000
END:STANDARD
END:VTIMEZONE
BEGIN:VEVENT
DTSTART;TZID=America/New_York:20220930T073000
DTEND;TZID=America/New_York:20220930T140000
DTSTAMP:20260425T233316
CREATED:20220727T183705Z
LAST-MODIFIED:20220927T151911Z
UID:13601-1664523000-1664546400@talltimbers.org
SUMMARY:CANCELED: Tall Timbers Fall 2022 Field Day
DESCRIPTION:Due to Hurricane Ian’s potential impact on our communities and surrounding areas\, and with the safety of our attendees in mind\, we have decided to cancel Fall Field Day 2022 on Friday\, September 30th\, 2022\, at Southlands. \nWe are rescheduling Fall Field Day for 2023. \nIf you are in the area of impact for the hurricane\, please stay safe. We look forward to seeing you next year. \nPlease contact the Development Office with any questions or concerns. \nThank you to our host\, Southlands\, and our sponsors for their willingness to participate! \n\n\n\n\n\n\n\n\n\n\n\n\n\nCrystal Rice\, (850) 545-2162\nDevelopment Director\n\n\n\n\n\n\n\n\n\n\n\n\n\n\n\n\n\n\n\n\n\n\n\n\nTori Crawford\, (850) 893-4153 x249\nDevelopment Coordinator
URL:https://talltimbers.org/event/tall-timbers-fall-2022-field-day/
LOCATION:SC
END:VEVENT
END:VCALENDAR